BEGIN:VCALENDAR
VERSION:2.0
PRODID:spatie/icalendar-generator
DESCRIPTION:Events from Raconteuse Cigars
X-WR-CALDESC:Events from Raconteuse Cigars
REFRESH-INTERVAL;VALUE=DURATION:PT1440M
X-PUBLISHED-TTL:PT1440M
BEGIN:VTIMEZONE
TZID:Etc/GMT+0
BEGIN:STANDARD
DTSTART:20230220T190000Z
TZOFFSETFROM:+0000
TZOFFSETTO:+0000
END:STANDARD
END:VTIMEZONE
BEGIN:VTIMEZONE
TZID:UTC
BEGIN:STANDARD
DTSTART:20250723T192543Z
TZOFFSETFROM:+0000
TZOFFSETTO:+0000
END:STANDARD
END:VTIMEZONE
BEGIN:VEVENT
UID:28-26
DTSTAMP:20260419T192543Z
SUMMARY:Greenwood Brewing Patio Takeover
LOCATION:
ORGANIZER;CN=raconteuse:MAILTO:cigars@raconteusecigars.com
DTSTART;TZID=Etc/GMT+0:20231117T190000
DTEND;TZID=Etc/GMT+0:20231117T220000
X-ALT-DESC;FMTTYPE=TEXT/HTML:See More
CATEGORIES:Greenwood Brewing
URL;VALUE=URI:https://raconteusecigars.com/mc-events/greenwood-brewing-pati
 o-takeover-3/?mc_id=28
END:VEVENT
END:VCALENDAR